BEGIN:VCALENDAR
VERSION:2.0
PRODID:-//ChamberMaster//Event Calendar 2.0//EN
METHOD:PUBLISH
X-PUBLISHED-TTL:P3D
REFRESH-INTERVAL:P3D
CALSCALE:GREGORIAN
BEGIN:VEVENT
DTSTART:20240411T160000Z
DTEND:20240411T170000Z
X-MICROSOFT-CDO-ALLDAYEVENT:FALSE
SUMMARY:Ribbon Cutting: Baker Bag Company
DESCRIPTION:Join us for a ribbon cutting celebration at Baker Bag Company's new location in downtown Newnan! They are a local boutique known for their unique purses\, fun sunglasses\, exquisite consignment options and affordable clothing choices. Lots of food\, deep discounts and prizes.
X-ALT-DESC;FMTTYPE=text/html:Join us for a ribbon cutting celebration at Baker Bag Company&#39\;s new location in downtown Newnan!&nbsp\;They are a local boutique known for their unique purses\, fun sunglasses\, exquisite consignment options and affordable clothing choices.&nbsp\;Lots of food\, deep discounts and prizes.
LOCATION:8 Lagrange Street Newnan\, GA 30263
UID:e.468.20227
SEQUENCE:3
DTSTAMP:20260419T154542Z
URL:https://www.newnancowetachamber.org/events/details/ribbon-cutting-baker-bag-company-20227
END:VEVENT

END:VCALENDAR
