BEGIN:VCALENDAR
VERSION:2.0
PRODID:-//ChamberMaster//Event Calendar 2.0//EN
METHOD:PUBLISH
X-PUBLISHED-TTL:P3D
REFRESH-INTERVAL:P3D
CALSCALE:GREGORIAN
BEGIN:VEVENT
DTSTART:20201216T170000Z
DTEND:20201216T180000Z
X-MICROSOFT-CDO-ALLDAYEVENT:FALSE
SUMMARY:Ribbon Cutting - Blue Fern
DESCRIPTION:Join us for a ribbon cutting to celebrate the grand re-opening of the newly rebranded Blue Fern\, a Design Community! Located just off the Square in Downtown Newnan\, Blue Fern has added co-working/event space\, workshops\, and pop-ups to their existing interior design\, decor\, custom furnishings\, and remodeling storefront. In addition to the ribbon cutting\, there will be special discounts on event space for attendees\, complimentary co-working day passes\, and 10% off all accessories and decor.
X-ALT-DESC;FMTTYPE=text/html:<span style="font-size:14px\;"><span style="font-family:tahoma\;">Join us for a ribbon cutting to celebrate the grand re-opening of the newly rebranded Blue Fern\, a Design Community! Located just off the Square in Downtown Newnan\, Blue Fern has added co-working/event space\, workshops\, and pop-ups to their existing interior design\, decor\, custom furnishings\, and remodeling storefront. In addition to the ribbon cutting\, there will be special discounts on event space for attendees\, complimentary co-working day passes\, and 10% off all accessories and decor.</span></span><br />\n&nbsp\;
LOCATION:Blue Fern\, a Design Community 5 Greenville St | Newnan
UID:e.468.16839
SEQUENCE:3
DTSTAMP:20260425T191657Z
URL:https://www.newnancowetachamber.org/events/details/ribbon-cutting-blue-fern-16839
END:VEVENT

END:VCALENDAR
