BEGIN:VCALENDAR
VERSION:2.0
PRODID:-//ChamberMaster//Event Calendar 2.0//EN
METHOD:PUBLISH
X-PUBLISHED-TTL:P3D
REFRESH-INTERVAL:P3D
CALSCALE:GREGORIAN
BEGIN:VEVENT
DTSTART:20230228T210000Z
DTEND:20230228T220000Z
X-MICROSOFT-CDO-ALLDAYEVENT:FALSE
SUMMARY:Ribbon Cutting: BobbyMac's General Store
DESCRIPTION:Please join us for the Ribbon Cutting of BobbyMac's General Store! The owner\, Christina Allen\, has always wanted to have a unique\, small town store that offers a variety of local goods. BobbyMac's is named after Christina's late father\, Bob McKnight. In honor of Bob's life and passing\, the celebration also includes a blessing on the store and food and drinks for Chamber members and guests. Please register!
X-ALT-DESC;FMTTYPE=text/html:<font face="tahoma"><span style="caret-color: rgb(0\, 0\, 0)\; font-size: 14px\;">Please join us for the Ribbon&nbsp\;Cutting of BobbyMac&#39\;s General Store! The&nbsp\;owner\, Christina Allen\, has always wanted to have a unique\, small town store that offers a variety of local goods. BobbyMac&#39\;s is named after Christina&#39\;s late father\, Bob McKnight. In honor of Bob&#39\;s life and passing\, the celebration also includes a blessing on the store and food and drinks for&nbsp\;Chamber members and guests. Please register!</span></font>
LOCATION:4929 Hwy 16 E Turin\, Georgia 30289
UID:e.468.18671
SEQUENCE:3
DTSTAMP:20260422T144236Z
URL:https://www.newnancowetachamber.org/events/details/ribbon-cutting-bobbymac-s-general-store-18671
END:VEVENT

END:VCALENDAR
