BEGIN:VCALENDAR
VERSION:2.0
PRODID:-//ChamberMaster//Event Calendar 2.0//EN
METHOD:PUBLISH
X-PUBLISHED-TTL:P3D
REFRESH-INTERVAL:P3D
CALSCALE:GREGORIAN
BEGIN:VEVENT
DTSTART:20220214T153000Z
DTEND:20220214T163000Z
X-MICROSOFT-CDO-ALLDAYEVENT:FALSE
SUMMARY:Ribbon Cutting: Book Love the bookshop of Senoia
DESCRIPTION:Join us for the Ribbon Cutting and grand opening celebration of Book Love the bookshop of Senoia! Book Love is an indie bookshop in the heart of downtown. They feature a mix of new books\, previously loved books\, and literary gift items. They also have a dessert and tea cafe. Stop in for a new book and a sweet treat! After their opening on February 14th they have a full calendar of events such as story time\, workshops\, book signings\, poetry readings\, book clubs\, movie screenings\, game nights and more. Book shops are more than a retail space\; they are a place for community and learning! Please register.
X-ALT-DESC;FMTTYPE=text/html:<span style="font-size:14px\;"><span style="font-family:tahoma\;">Join us for the Ribbon Cutting and grand opening celebration of Book Love the bookshop of Senoia! Book Love is<span style="caret-color: rgb(0\, 0\, 0)\; color: rgb(0\, 0\, 0)\;">&nbsp\;an indie bookshop in the heart of downtown. They feature a mix of new books\, previously loved books\, and literary gift items. They also have a dessert and tea cafe. Stop in for a new book and a sweet treat! After their opening on February 14th they have a full calendar of events such as story time\, workshops\, book signings\, poetry readings\, book clubs\, movie screenings\, game nights and more. Book shops are more than a retail space\; they are a place for community and learning! Please register.&nbsp\;</span></span></span>
LOCATION:53 Main Street Building C Senoia\, GA 30276
UID:e.468.18243
SEQUENCE:3
DTSTAMP:20260424T204556Z
URL:https://www.newnancowetachamber.org/events/details/ribbon-cutting-book-love-the-bookshop-of-senoia-18243
END:VEVENT

END:VCALENDAR
