BEGIN:VCALENDAR
VERSION:2.0
PRODID:-//ChamberMaster//Event Calendar 2.0//EN
METHOD:PUBLISH
X-PUBLISHED-TTL:P3D
REFRESH-INTERVAL:P3D
CALSCALE:GREGORIAN
BEGIN:VEVENT
DTSTART:20220125T170000Z
DTEND:20220125T180000Z
X-MICROSOFT-CDO-ALLDAYEVENT:FALSE
SUMMARY:Ribbon Cutting: Buff City Soap
DESCRIPTION:Join us to celebrate the Ribbon Cutting of Buff City Soap! This Ribbon Cutting event kicks off their grand opening celebrations which take place January 28th-30th. The first 50 people who enter the store on Friday\, Saturday\, and Sunday get free soap for a year! Customers receive 20% off everything in the store\, 30% if the total is $100 or more\, and laundry soap is buy one\, get one 50% off. Please register for Tuesday's Ribbon Cutting!
X-ALT-DESC;FMTTYPE=text/html:<span style="font-size:14px\;"><span style="font-family:tahoma\;"><span style="caret-color: rgb(0\, 0\, 0)\; color: rgb(0\, 0\, 0)\; text-size-adjust: auto\;">Join us to celebrate the Ribbon Cutting of Buff City Soap! This Ribbon Cutting event kicks off their grand opening celebrations which take place January 28th-30th.&nbsp\;The first 50 people who enter the store on Friday\, Saturday\, and Sunday get free soap for a year! Customers receive 20% off everything in the store\, 30% if the total is $100 or more\, and laundry soap is buy one\, get one 50% off. Please register for Tuesday&#39\;s Ribbon Cutting!</span></span></span>
LOCATION:561 Bullsboro Drive Newnan
UID:e.468.18074
SEQUENCE:3
DTSTAMP:20260424T234429Z
URL:https://www.newnancowetachamber.org/events/details/ribbon-cutting-buff-city-soap-18074
END:VEVENT

END:VCALENDAR
