BEGIN:VCALENDAR
VERSION:2.0
PRODID:-//ChamberMaster//Event Calendar 2.0//EN
METHOD:PUBLISH
X-PUBLISHED-TTL:P3D
REFRESH-INTERVAL:P3D
CALSCALE:GREGORIAN
BEGIN:VEVENT
DTSTART:20231012T160000Z
DTEND:20231012T170000Z
X-MICROSOFT-CDO-ALLDAYEVENT:FALSE
SUMMARY:Ribbon Cutting: Ciao Bella Medical Center & Spa
DESCRIPTION:Join the Newnan-Coweta Chamber for the ribbon cutting of Ciao Bella Medical Center & Spa! \n\n\n\nCiao Bella Medical Center and Spa\, is proud to offer the highest standard of care to their patients to help them look and feel their best. They believe that each patient is unique\, so your individualized treatment plan will cater to what works best for you.
X-ALT-DESC;FMTTYPE=text/html:Join the Newnan-Coweta Chamber for the ribbon cutting of Ciao Bella Medical Center &amp\; Spa!&nbsp\;<br />\n<br />\nCiao Bella Medical Center and Spa\, is proud to offer the highest standard of care to their patients to help them look and feel their best. They believe that each patient is unique\, so your individualized treatment plan will cater to what works best for you.
LOCATION:175 Jefferson Parkway Newnan\, GA 30263
UID:e.468.18952
SEQUENCE:3
DTSTAMP:20260420T015945Z
URL:https://www.newnancowetachamber.org/events/details/ribbon-cutting-ciao-bella-medical-center-spa-18952
END:VEVENT

END:VCALENDAR
