BEGIN:VCALENDAR
VERSION:2.0
PRODID:-//ChamberMaster//Event Calendar 2.0//EN
METHOD:PUBLISH
X-PUBLISHED-TTL:P3D
REFRESH-INTERVAL:P3D
CALSCALE:GREGORIAN
BEGIN:VEVENT
DTSTART:20230510T160000Z
DTEND:20230510T170000Z
X-MICROSOFT-CDO-ALLDAYEVENT:FALSE
SUMMARY:Ribbon Cutting: City of Hope Atlanta
DESCRIPTION:Join us for the Ribbon Cutting of City of Hope Atlanta! Earlier this year was the first-year anniversary of City of Hope joining forces with Cancer Treatment Centers of America (CTCA) - an acquisition that united their shared vision\, values and commitment to high-quality\, compassionate care that puts patients first. Now\, as part of their ongoing transformation to expand patient access to personalized\, leading-edge cancer care\, they've reached another important milestone   the name change of CTCA locations to City of Hope. The doctors are collaborating to enhance patient care across their national system\, and they are connecting more patients and families across the United States to innovative treatments and expert care. Please register!
X-ALT-DESC;FMTTYPE=text/html:<span style="font-size:14px\;"><span style="font-family:tahoma\;">Join us for the Ribbon Cutting of City of Hope Atlanta!&nbsp\;<span style="caret-color: rgb(0\, 0\, 0)\;">Earlier this year was the first-year anniversary of City of Hope joining forces with Cancer Treatment Centers of America (CTCA) - an acquisition that united their shared vision\, values and commitment to high-quality\, compassionate care that puts patients first. Now\, as part of their ongoing transformation to expand patient access to personalized\, leading-edge cancer care\, they&rsquo\;ve reached another important milestone &mdash\; the name change of CTCA locations to City of Hope. The doctors are collaborating to enhance patient care across their national system\, and they are connecting more patients and families across the United States to innovative treatments and expert care. Please register!</span></span></span>
LOCATION:600 Celebrate Life Parkway Newnan\, Georgia 30265
UID:e.468.18789
SEQUENCE:3
DTSTAMP:20260422T100139Z
URL:https://www.newnancowetachamber.org/events/details/ribbon-cutting-city-of-hope-atlanta-18789
END:VEVENT

END:VCALENDAR
