BEGIN:VCALENDAR
VERSION:2.0
PRODID:-//ChamberMaster//Event Calendar 2.0//EN
METHOD:PUBLISH
X-PUBLISHED-TTL:P3D
REFRESH-INTERVAL:P3D
CALSCALE:GREGORIAN
BEGIN:VEVENT
DTSTART:20230118T170000Z
DTEND:20230118T180000Z
X-MICROSOFT-CDO-ALLDAYEVENT:FALSE
SUMMARY:Ribbon Cutting: Clean Juice
DESCRIPTION:Join us for the Ribbon Cutting of Clean Juice Newnan! Clean Juice is the only certified Organic juice bar. Everything they serve is made with the highest quality produce. Attendees can enjoy lunch and a selection of door prizes. Please register!
X-ALT-DESC;FMTTYPE=text/html:<span style="font-size:14px\;"><span style="font-family:tahoma\;">Join us for the Ribbon Cutting of Clean Juice Newnan! Clean Juice is the only certified Organic juice bar. Everything they serve is made with the highest quality produce. Attendees can enjoy lunch and a selection of door prizes. Please register!</span></span>
LOCATION:316C Newnan Crossing Bypass Newnan\, Georgia 30265
UID:e.468.18609
SEQUENCE:3
DTSTAMP:20260422T160457Z
URL:https://www.newnancowetachamber.org/events/details/ribbon-cutting-clean-juice-18609
END:VEVENT

END:VCALENDAR
