BEGIN:VCALENDAR
VERSION:2.0
PRODID:-//ChamberMaster//Event Calendar 2.0//EN
METHOD:PUBLISH
X-PUBLISHED-TTL:P3D
REFRESH-INTERVAL:P3D
CALSCALE:GREGORIAN
BEGIN:VEVENT
DTSTART:20230906T160000Z
DTEND:20230906T170000Z
X-MICROSOFT-CDO-ALLDAYEVENT:FALSE
SUMMARY:Ribbon Cutting: CMG Training Institute
DESCRIPTION:Come celebrate the ribbon cutting of CMG Training Institute! CMG Training Institute provides training and education that prepares students to function under the direction of a licensed health professionals such as doctors and nurses. Upon completion of our program\, Our students are able to become certified as a Certified Nursing Assistant\, Certified Phlebotomy Technician and/or Certified Patient Care Technician. They are able to work in any healthcare setting such as nursing homes\, hospitals\, physician practice or other settings.\n\n\n\nLight refreshments\, 10% discount for first 3 students to sign up & pays in full on the day of Grand Opening/Ribbon Cutting.
X-ALT-DESC;FMTTYPE=text/html:<span style="font-family:tahoma\;"><span style="color: rgb(0\, 0\, 0)\;">Come celebrate the ribbon cutting of CMG Training Institute! CMG Training Institute provides training and education that prepares students to function under the direction of a licensed health professionals such as doctors and nurses. Upon completion of our program\, Our students are able to become certified as a Certified Nursing Assistant\, Certified Phlebotomy Technician and/or Certified Patient Care Technician. They are able to work in any healthcare setting such as nursing homes\, hospitals\, physician practice or other settings.</span><br />\n<br />\nLight refreshments\, 10% discount for first 3 students to sign up &amp\; pays in full on the day of Grand Opening/Ribbon Cutting.</span>
LOCATION:4 Forest Circle\, Newnan\, GA 30265
UID:e.468.19125
SEQUENCE:3
DTSTAMP:20260420T033852Z
URL:https://www.newnancowetachamber.org/events/details/ribbon-cutting-cmg-training-institute-19125
END:VEVENT

END:VCALENDAR
