BEGIN:VCALENDAR
VERSION:2.0
PRODID:-//ChamberMaster//Event Calendar 2.0//EN
METHOD:PUBLISH
X-PUBLISHED-TTL:P3D
REFRESH-INTERVAL:P3D
CALSCALE:GREGORIAN
BEGIN:VEVENT
DTSTART:20230124T170000Z
DTEND:20230124T180000Z
X-MICROSOFT-CDO-ALLDAYEVENT:FALSE
SUMMARY:Ribbon Cutting: CommunityMD
DESCRIPTION:Join us for the Ribbon Cutting of CommunityMD! CommunityMD is a group of primary care physicians who have joined together to render services to the community. They pride themselves on the quality of care provided. Patients receive care with open arms and an open mind. The team finds joy in knowing its local community thrives. Lunch and door prizes are available at the event. Please register!
X-ALT-DESC;FMTTYPE=text/html:<span style="font-size:14px\;"><span style="font-family:tahoma\;">Join us for the Ribbon Cutting of CommunityMD! CommunityMD is a group of primary care physicians who have joined together to render services to the community. They pride themselves on the quality of care provided. Patients receive care with open arms and an open mind. The team finds joy in knowing its local community thrives. Lunch and door prizes are available at the event. Please register!</span></span>\n<p style="-webkit-font-smoothing: antialiased\; word-break: break-word\; display: inline-block\; padding: 20px 0px 0px\; margin: 0px\; max-width: initial\; white-space: pre-wrap\; width: 940px\;">&nbsp\;</p>\n
LOCATION:1741 Newnan Crossing Boulevard\, Suite G Newnan\, Georgia 30265
UID:e.468.18622
SEQUENCE:3
DTSTAMP:20260422T155244Z
URL:https://www.newnancowetachamber.org/events/details/ribbon-cutting-communitymd-18622
END:VEVENT

END:VCALENDAR
