BEGIN:VCALENDAR
VERSION:2.0
PRODID:-//ChamberMaster//Event Calendar 2.0//EN
METHOD:PUBLISH
X-PUBLISHED-TTL:P3D
REFRESH-INTERVAL:P3D
CALSCALE:GREGORIAN
BEGIN:VEVENT
DTSTART:20240409T160000Z
DTEND:20240409T170000Z
X-MICROSOFT-CDO-ALLDAYEVENT:FALSE
SUMMARY:Ribbon Cutting: Cosmic Pediatrics
DESCRIPTION:Join the Newnan-Coweta Chamber is celebrating the ribbon cutting of Cosmic Pediatrics! Torey Harden\, MD will be opening his new pediatrics office. He is accepting new patients from newborn to 18 years of age. "Caring for your little stars\, every step of the way." Lunch and door prizes will be provided.
X-ALT-DESC;FMTTYPE=text/html:Join the Newnan-Coweta Chamber is celebrating the ribbon cutting of Cosmic Pediatrics! Torey Harden\, MD will be&nbsp\;opening his new pediatrics office. He is accepting new patients from newborn to 18 years of age. &quot\;Caring for your little stars\, every step of the way.&quot\;&nbsp\;Lunch and door prizes will be provided.
LOCATION:61 Robinson Lake Road Newnan\, GA 30265
UID:e.468.20241
SEQUENCE:3
DTSTAMP:20260419T154456Z
URL:https://www.newnancowetachamber.org/events/details/ribbon-cutting-cosmic-pediatrics-20241
END:VEVENT

END:VCALENDAR
