BEGIN:VCALENDAR
VERSION:2.0
PRODID:-//ChamberMaster//Event Calendar 2.0//EN
METHOD:PUBLISH
X-PUBLISHED-TTL:P3D
REFRESH-INTERVAL:P3D
CALSCALE:GREGORIAN
BEGIN:VEVENT
DTSTART:20220927T160000Z
DTEND:20220927T170000Z
X-MICROSOFT-CDO-ALLDAYEVENT:FALSE
SUMMARY:Ribbon Cutting: Coweta F.O.R.C.E.
DESCRIPTION:Coweta F.O.R.C.E. is a local non-profit that provides support and services to individuals and family members who have been impacted by substance use. Join us for the Ribbon Cutting of Coweta F.O.R.C.E. as we celebrate their brand new building\, just off the Court Square! Lunch is served. Please register!
X-ALT-DESC;FMTTYPE=text/html:<span style="font-size:14px\;"><span style="font-family:tahoma\;"><span style="caret-color: rgb(0\, 0\, 0)\; color: rgb(0\, 0\, 0)\;">Coweta F.O.R.C.E. is a local non-profit that provides support and services to individuals and family members who have been impacted by substance use. Join us for the Ribbon Cutting of Coweta F.O.R.C.E. as we celebrate their brand new building\, just off the Court Square! Lunch is served. Please register!</span></span></span>
LOCATION:36 Salbide Avenue Newnan\, Georgia 30263
UID:e.468.18541
SEQUENCE:3
DTSTAMP:20260424T090342Z
URL:https://www.newnancowetachamber.org/events/details/ribbon-cutting-coweta-f-o-r-c-e-18541
END:VEVENT

END:VCALENDAR
