BEGIN:VCALENDAR
VERSION:2.0
PRODID:-//ChamberMaster//Event Calendar 2.0//EN
METHOD:PUBLISH
X-PUBLISHED-TTL:P3D
REFRESH-INTERVAL:P3D
CALSCALE:GREGORIAN
BEGIN:VEVENT
DTSTART:20230201T170000Z
DTEND:20230201T180000Z
X-MICROSOFT-CDO-ALLDAYEVENT:FALSE
SUMMARY:Ribbon Cutting: Crimson Therapy Services
DESCRIPTION:Join us for the Ribbon Cutting of Crimson Therapy Services! Crimson Therapy Services provides speech therapy services for children and adults in Newnan and surrounding areas. These services are provided in-person and virtually. Snacks and beverages are provided at the event. Please register!
X-ALT-DESC;FMTTYPE=text/html:<span style="font-size:14px\;"><span style="font-family:tahoma\;"><span style="caret-color: rgb(0\, 0\, 0)\;">Join us for the Ribbon Cutting of Crimson Therapy Services! Crimson Therapy Services provides speech therapy services for children and adults in Newnan and surrounding areas. These services are provided in-person and virtually. Snacks and&nbsp\;</span></span></span><font face="tahoma"><span style="caret-color: rgb(0\, 0\, 0)\; font-size: 14px\;">beverages are provided at the event. Please register!</span></font>
LOCATION:15 Perry Street Suite 109 Newnan\, Georgia 30263
UID:e.468.18662
SEQUENCE:3
DTSTAMP:20260422T142629Z
URL:https://www.newnancowetachamber.org/events/details/ribbon-cutting-crimson-therapy-services-18662
END:VEVENT

END:VCALENDAR
