BEGIN:VCALENDAR
VERSION:2.0
PRODID:-//ChamberMaster//Event Calendar 2.0//EN
METHOD:PUBLISH
X-PUBLISHED-TTL:P3D
REFRESH-INTERVAL:P3D
CALSCALE:GREGORIAN
BEGIN:VEVENT
DTSTART:20220113T170000Z
DTEND:20220113T180000Z
X-MICROSOFT-CDO-ALLDAYEVENT:FALSE
SUMMARY:Ribbon Cutting: Crossroad Fitness
DESCRIPTION:Join us for the Ribbon Cutting of Crossroad Fitness\, a 24/7 Full-Service Fitness Center! They offer cardio\, free weights\, Les Mills Group Fitness\, cycling\, group and personal training options\, and more. In addition to functional fitness\, they provide amenities such as childcare\, tanning\, showers\, lockers\, a sauna\, and 3D BodyScanning. Crossroad Fitness is more than just a gym! Their Ribbon Cutting celebration features a bounce house for kids\, other business vendors\, live music\, food\, and FUN! Please register.
X-ALT-DESC;FMTTYPE=text/html:<p><span style="font-size:14px\;"><span style="font-family:tahoma\;"><span style="caret-color: rgb(0\, 0\, 0)\; color: rgb(0\, 0\, 0)\; text-size-adjust: auto\;">Join us for the Ribbon Cutting of Crossroad Fitness\, a 24/7 Full-Service Fitness Center! They offer cardio\, free weights\, Les Mills Group Fitness\, cycling\, group and personal training options\, and more. In addition to functional fitness\, they provide amenities such as childcare\, tanning\, showers\, lockers\, a sauna\, and 3D BodyScanning. Crossroad Fitness is more than just a gym! Their Ribbon Cutting celebration features a&nbsp\;b</span><span style="caret-color: rgb(0\, 0\, 0)\; color: rgb(0\, 0\, 0)\; text-size-adjust: auto\;">ounce house for kids\, other business vendors\, live music\,&nbsp\;food\, and FUN!&nbsp\;Please register.</span></span></span></p>\n
LOCATION:6 Thomas Grace Annex Lane Sharpsburg
UID:e.468.18073
SEQUENCE:3
DTSTAMP:20260424T222322Z
URL:https://www.newnancowetachamber.org/events/details/ribbon-cutting-crossroad-fitness-18073
END:VEVENT

END:VCALENDAR
