BEGIN:VCALENDAR
VERSION:2.0
PRODID:-//ChamberMaster//Event Calendar 2.0//EN
METHOD:PUBLISH
X-PUBLISHED-TTL:P3D
REFRESH-INTERVAL:P3D
CALSCALE:GREGORIAN
BEGIN:VEVENT
DTSTART:20220929T160000Z
DTEND:20220929T170000Z
X-MICROSOFT-CDO-ALLDAYEVENT:FALSE
SUMMARY:Ribbon Cutting: Crumbl Cookies Ashley Park
DESCRIPTION:Join us for the Ribbon Cutting of Crumbl Cookies Ashley Park! Crumbl offers gourmet cookies that are baked fresh in their store. The cookie menu rotates every week so there is always something new to try. Registered Chamber attendees receive a 4-pack of cookies of their choice! Please register.
X-ALT-DESC;FMTTYPE=text/html:<span style="font-family: tahoma\; font-size: 14px\; background-color: white\;">Join us for the Ribbon Cutting of Crumbl Cookies Ashley Park!&nbsp\;</span><font face="tahoma"><span style="font-size: 14px\;">Crumbl offers gourmet cookies that are baked fresh in their store. The cookie menu rotates every week so there is always something new to try. Registered Chamber attendees receive a 4-pack of cookies of their choice! Please register.&nbsp\;</span></font><br />\n<br />\n<br />\n&nbsp\;
LOCATION:Crumbl Cookies Ashley Park 549 Bullsboro Dr\, Suite B Newnan\, GA 30265
UID:e.468.18554
SEQUENCE:3
DTSTAMP:20260424T090246Z
URL:https://www.newnancowetachamber.org/events/details/ribbon-cutting-crumbl-cookies-ashley-park-18554
END:VEVENT

END:VCALENDAR
