BEGIN:VCALENDAR
VERSION:2.0
PRODID:-//ChamberMaster//Event Calendar 2.0//EN
METHOD:PUBLISH
X-PUBLISHED-TTL:P3D
REFRESH-INTERVAL:P3D
CALSCALE:GREGORIAN
BEGIN:VEVENT
DTSTART:20220915T160000Z
DTEND:20220915T170000Z
X-MICROSOFT-CDO-ALLDAYEVENT:FALSE
SUMMARY:Ribbon Cutting: Crust & Craft
DESCRIPTION:Join us for the Ribbon Cutting of Crust & Craft! Crust & Craft is redefining how Georgians enjoy Pizza\, Beer\, & Cocktails. They do pizza differently. During the celebration\, Crust & Craft is providing $10 lunch specials and door prizes! Please register.
X-ALT-DESC;FMTTYPE=text/html:<span style="font-size:14px\;"><span style="font-family:tahoma\;">Join us for the Ribbon Cutting of Crust &amp\; Craft! Crust &amp\; Craft is redefining<span style="caret-color: rgb(5\, 5\, 5)\;">&nbsp\;how Georgians enjoy Pizza\, Beer\, &amp\; Cocktails.&nbsp\;</span><span style="caret-color: rgb(0\, 0\, 0)\;">They do pizza differently. During the celebration\, Crust &amp\; Craft is providing $10 lunch specials and door prizes! Please register.&nbsp\;</span></span></span>
LOCATION:3150 Hwy 34 301 E Newnan\, Georgia 30265
UID:e.468.18514
SEQUENCE:3
DTSTAMP:20260424T090002Z
URL:https://www.newnancowetachamber.org/events/details/ribbon-cutting-crust-craft-18514
END:VEVENT

END:VCALENDAR
