BEGIN:VCALENDAR
VERSION:2.0
PRODID:-//ChamberMaster//Event Calendar 2.0//EN
METHOD:PUBLISH
X-PUBLISHED-TTL:P3D
REFRESH-INTERVAL:P3D
CALSCALE:GREGORIAN
BEGIN:VEVENT
DTSTART:20230719T160000Z
DTEND:20230719T170000Z
X-MICROSOFT-CDO-ALLDAYEVENT:FALSE
SUMMARY:Ribbon Cutting: Detail Garage Newnan
DESCRIPTION:Join us for the Ribbon Cutting of Detail Garage Newnan! Detail Garage Newnan sells detailing supplies to the public and professionals alike. They also offer classes on how to maintain your vehicle. During the event\, Detail Garage Newnan is offering lunch for attendees and 20% off of services. Please register!
X-ALT-DESC;FMTTYPE=text/html:<span style="font-size:14px\;"><span style="font-family:tahoma\;">Join us for the Ribbon Cutting of Detail Garage Newnan! Detail Garage Newnan sells<span style="caret-color: rgb(0\, 0\, 0)\; text-size-adjust: auto\;">&nbsp\;detailing supplies to the public and professionals alike. They also offer&nbsp\;</span><span style="caret-color: rgb(0\, 0\, 0)\; text-size-adjust: auto\;">classes on how to maintain your vehicle. During the event\, Detail Garage Newnan is offering lunch for attendees and 20% off of services. Please register!</span></span></span>
LOCATION:172 Bullsboro Drive Newnan\, Georgia 30263
UID:e.468.18882
SEQUENCE:3
DTSTAMP:20260420T071115Z
URL:https://www.newnancowetachamber.org/events/details/ribbon-cutting-detail-garage-newnan-18882
END:VEVENT

END:VCALENDAR
