BEGIN:VCALENDAR
VERSION:2.0
PRODID:-//ChamberMaster//Event Calendar 2.0//EN
METHOD:PUBLISH
X-PUBLISHED-TTL:P3D
REFRESH-INTERVAL:P3D
CALSCALE:GREGORIAN
BEGIN:VEVENT
DTSTART:20211001T160000Z
DTEND:20211001T170000Z
X-MICROSOFT-CDO-ALLDAYEVENT:FALSE
SUMMARY:Ribbon Cutting: Dream Pediatric Dentistry and Orthodontics
DESCRIPTION:Dr. Jovas and Dr. Mallory opened Dream Pediatric Dentistry and Orthodontics in June 2021. They were best friends and classmates together at the Medical College of Georgia. They are so excited to be providing dental care to Coweta County. Their goal is to give every person that walks through the door the smile of their dreams. Dream Pediatric Dentistry and Orthodontics are offering a free orthodontic consult and $500 off orthodontic care for anyone who attends the Ribbon Cutting! Please register.
X-ALT-DESC;FMTTYPE=text/html:<span style="font-family:tahoma\;"><span style="font-size:14px\;"><span style="caret-color: rgb(0\, 0\, 0)\; color: rgb(0\, 0\, 0)\; text-size-adjust: auto\;">Dr. Jovas and Dr. Mallory opened Dream Pediatric Dentistry and Orthodontics in June 2021. They were best friends and classmates together at the Medical College of Georgia. They are so excited to be providing dental care to Coweta County. Their goal is to give every person that walks through the door the smile of their dreams. Dream Pediatric Dentistry and Orthodontics are offering a free orthodontic consult and $500 off orthodontic care for anyone who attends the Ribbon Cutting! Please register.&nbsp\;</span></span></span>
LOCATION:2081 Newnan Crossing Boulevard | Suite 100
UID:e.468.17889
SEQUENCE:3
DTSTAMP:20260425T031317Z
URL:https://www.newnancowetachamber.org/events/details/ribbon-cutting-dream-pediatric-dentistry-and-orthodontics-17889
END:VEVENT

END:VCALENDAR
