BEGIN:VCALENDAR
VERSION:2.0
PRODID:-//ChamberMaster//Event Calendar 2.0//EN
METHOD:PUBLISH
X-PUBLISHED-TTL:P3D
REFRESH-INTERVAL:P3D
CALSCALE:GREGORIAN
BEGIN:VEVENT
DTSTART:20220922T160000Z
DTEND:20220922T170000Z
X-MICROSOFT-CDO-ALLDAYEVENT:FALSE
SUMMARY:Ribbon Cutting: Dream Wings N Things
DESCRIPTION:Join us for the Ribbon Cutting of Dream Wings N Things! Dream serves small and crispy wings with a variety of delicious homemade sauces\, such as their popular "Raheem The Dream" sauce. During the celebration Dream Wings N Things is providing samples of their crispy wings and fish\, cheesesteaks\, cheeseburgers\, signature pancakes and more! Please register.
X-ALT-DESC;FMTTYPE=text/html:<span style="font-size:14px\;"><span style="font-family:tahoma\;"><span style="caret-color: rgb(0\, 0\, 0)\;">Join us for the Ribbon Cutting of Dream Wings N Things! Dream serves small and crispy wings with a&nbsp\;variety of delicious homemade sauces\, such as their popular &quot\;Raheem The Dream&quot\; sauce. During the celebration Dream Wings N Things is providing s</span><span style="caret-color: rgb(0\, 0\, 0)\;">amples of their crispy wings and fish\, cheesesteaks\, cheeseburgers\,&nbsp\;signature pancakes and more! Please register.&nbsp\;</span></span></span>
LOCATION:1700 Newnan Crossing Boulevard Newnan\, GA 30265
UID:e.468.18513
SEQUENCE:3
DTSTAMP:20260424T091113Z
URL:https://www.newnancowetachamber.org/events/details/ribbon-cutting-dream-wings-n-things-18513
END:VEVENT

END:VCALENDAR
