BEGIN:VCALENDAR
VERSION:2.0
PRODID:-//ChamberMaster//Event Calendar 2.0//EN
METHOD:PUBLISH
X-PUBLISHED-TTL:P3D
REFRESH-INTERVAL:P3D
CALSCALE:GREGORIAN
BEGIN:VEVENT
DTSTART:20231212T170000Z
DTEND:20231212T180000Z
X-MICROSOFT-CDO-ALLDAYEVENT:FALSE
SUMMARY:Ribbon Cutting: Eminence Home Services and Restoration
DESCRIPTION:Join the Newnan-Coweta Chamber for the Ribbon Cutting of Eminence Home Services and Restoration!\n\n\n\nEminence Home Services and Restoration provides expert water damage mitigation\, fire damage restoration\, and storm damage repair to the Newnan\, GA area.\n\n\n\nJoin us for lunch\, door prizes\, and more!
X-ALT-DESC;FMTTYPE=text/html:<span style="font-family:tahoma\;"><span style="font-size:14px\;">Join the Newnan-Coweta Chamber for the Ribbon Cutting of Eminence Home Services and Restoration!<br />\n<br />\nEminence Home Services and Restoration provides expert water damage mitigation\, fire damage restoration\, and storm damage repair to the Newnan\, GA area.<br />\n<br />\nJoin us for lunch\, door prizes\, and more!</span></span>
LOCATION:195 Raymond Hill Rd. Suite C Newnan\, GA 30265
UID:e.468.19130
SEQUENCE:3
DTSTAMP:20260419T224617Z
URL:https://www.newnancowetachamber.org/events/details/ribbon-cutting-eminence-home-services-and-restoration-19130
END:VEVENT

END:VCALENDAR
