BEGIN:VCALENDAR
VERSION:2.0
PRODID:-//ChamberMaster//Event Calendar 2.0//EN
METHOD:PUBLISH
X-PUBLISHED-TTL:P3D
REFRESH-INTERVAL:P3D
CALSCALE:GREGORIAN
BEGIN:VEVENT
DTSTART:20230315T160000Z
DTEND:20230315T170000Z
X-MICROSOFT-CDO-ALLDAYEVENT:FALSE
SUMMARY:Ribbon Cutting: European Wax Center
DESCRIPTION:Join us for a Ribbon Cutting of European Wax Center! European Wax Center is a hair removal salon that offers waxing services as well as products in the skincare\, body\, and brow categories. European Wax Center uses a four-step waxing process. Please register!
X-ALT-DESC;FMTTYPE=text/html:<span style="font-size:14px\;"><span style="font-family:tahoma\;">Join us for a Ribbon Cutting of European Wax Center! European Wax Center is a hair removal salon that offers waxing services as well as products in the skincare\, body\, and brow categories. European Wax Center <span style="caret-color: rgb(32\, 33\, 34)\;">uses a four-step waxing process. Please register!</span></span></span>
LOCATION:320 Newnan Crossing Bypass Newnan\, Georgia 30265
UID:e.468.18790
SEQUENCE:3
DTSTAMP:20260422T130408Z
URL:https://www.newnancowetachamber.org/events/details/ribbon-cutting-european-wax-center-18790
END:VEVENT

END:VCALENDAR
