BEGIN:VCALENDAR
VERSION:2.0
PRODID:-//ChamberMaster//Event Calendar 2.0//EN
METHOD:PUBLISH
X-PUBLISHED-TTL:P3D
REFRESH-INTERVAL:P3D
CALSCALE:GREGORIAN
BEGIN:VEVENT
DTSTART:20210226T170000Z
DTEND:20210226T180000Z
X-MICROSOFT-CDO-ALLDAYEVENT:FALSE
SUMMARY:Ribbon Cutting: Everything Sweet\, LLC
DESCRIPTION:Are you craving something sweet? Come join us for the opening celebration of Everything Sweet\, LLC where everything is made from scratch. They specialize in homemade cakes\, cookies\, cupcakes\, pies and sweet treats! Food and beverage will be provided.
X-ALT-DESC;FMTTYPE=text/html:Are you craving something sweet? Come join us for the opening celebration of Everything Sweet\, LLC where everything is made from scratch. They specialize in homemade cakes\, cookies\, cupcakes\, pies and sweet treats! Food and beverage will be provided.&nbsp\;
LOCATION:Everything Sweet\, LLC 20 Thomas Grace Annex Lane | Suite E | Sharpsburg 30277
UID:e.468.16891
SEQUENCE:3
DTSTAMP:20260425T161147Z
URL:https://www.newnancowetachamber.org/events/details/ribbon-cutting-everything-sweet-llc-16891
END:VEVENT

END:VCALENDAR
