BEGIN:VCALENDAR
VERSION:2.0
PRODID:-//ChamberMaster//Event Calendar 2.0//EN
METHOD:PUBLISH
X-PUBLISHED-TTL:P3D
REFRESH-INTERVAL:P3D
CALSCALE:GREGORIAN
BEGIN:VEVENT
DTSTART:20210430T150000Z
DTEND:20210430T160000Z
X-MICROSOFT-CDO-ALLDAYEVENT:FALSE
SUMMARY:Ribbon Cutting: Express Oil Change & Tire Engineers
DESCRIPTION:Join us for the celebration of Express Oil Change & Tire Engineers off of Fischer Crossing Dr. in Sharpsburg. They are known for their Signature 10 Minute Oil Change\, but at Express Oil Change & Tire Engineers\, they offer a number of services to keep your vehicle running as it should. Since they can perform manufacturer-recommended scheduled maintenance\, tune-ups\, and repairs\, they really are your one-stop automotive service provider! Lunch is provided\, as well as drawings for free oil changes\, set of tires\, Braves Tickets and more! During the grand opening\, get a FREE pair of wiper blades with your purchase of an oil change. Please register!
X-ALT-DESC;FMTTYPE=text/html:<span style="font-size:14px\;"><span style="font-family:tahoma\;">Join us for the celebration of Express Oil Change &amp\; Tire Engineers off of Fischer Crossing Dr. in Sharpsburg. They are known for their Signature 10 Minute Oil Change\, but at Express Oil Change &amp\; Tire Engineers\, they offer a number of services to keep your vehicle running as it should. Since they can perform manufacturer-recommended scheduled maintenance\, tune-ups\, and repairs\, they really are your one-stop automotive service provider!&nbsp\;<span style="caret-color: rgb(0\, 0\, 0)\; color: rgb(0\, 0\, 0)\; text-size-adjust: auto\;">Lunch is provided\, as well as drawings for free oil changes\, set of tires\, Braves Tickets and more! During the grand opening\, get a FREE pair of wiper blades with your purchase of an oil change. Please register!</span></span></span>
LOCATION:Express Oil Change & Tire Engineers 45 Fischer Crossing Dr | Sharpsburg
UID:e.468.16882
SEQUENCE:3
DTSTAMP:20260425T130944Z
URL:https://www.newnancowetachamber.org/events/details/ribbon-cutting-express-oil-change-tire-engineers-16882
END:VEVENT

END:VCALENDAR
