BEGIN:VCALENDAR
VERSION:2.0
PRODID:-//ChamberMaster//Event Calendar 2.0//EN
METHOD:PUBLISH
X-PUBLISHED-TTL:P3D
REFRESH-INTERVAL:P3D
CALSCALE:GREGORIAN
BEGIN:VEVENT
DTSTART:20230531T160000Z
DTEND:20230531T170000Z
X-MICROSOFT-CDO-ALLDAYEVENT:FALSE
SUMMARY:Ribbon Cutting: Express Oil Change & Tire Engineers
DESCRIPTION:Join us for the Ribbon Cutting of Express Oil Change & Tire Engineers! Since opening their first location in 1979\, they've grown into a national leader in automotive service with 333 locations across 19 states. Express Oil Change & Tire Engineers has a mission to provide experienced\, trustworthy automotive care and outstanding service every single day! Attendees can enjoy door prizes\, giveaways\, special offers\, and light refreshments. Please register!
X-ALT-DESC;FMTTYPE=text/html:<font face="tahoma"><span style="font-size: 14px\;">Join us for the Ribbon Cutting of&nbsp\;Express Oil Change &amp\; Tire Engineers!&nbsp\;</span><span style="caret-color: rgb(0\, 0\, 0)\; font-size: 14px\;">Since opening their first location in 1979\, they&rsquo\;ve grown into a national leader in automotive service with 333 locations across 19 states. Express Oil Change &amp\; Tire Engineers has a&nbsp\;mission to provide experienced\, trustworthy automotive care and outstanding service every single day! Attendees can enjoy door prizes\, giveaways\, special offers\, and light refreshments. Please register!</span></font>
LOCATION:35 Oak Lane Newnan\, Georgia 30263
UID:e.468.18825
SEQUENCE:3
DTSTAMP:20260422T102315Z
URL:https://www.newnancowetachamber.org/events/details/ribbon-cutting-express-oil-change-tire-engineers-18825
END:VEVENT

END:VCALENDAR
