BEGIN:VCALENDAR
VERSION:2.0
PRODID:-//ChamberMaster//Event Calendar 2.0//EN
METHOD:PUBLISH
X-PUBLISHED-TTL:P3D
REFRESH-INTERVAL:P3D
CALSCALE:GREGORIAN
BEGIN:VEVENT
DTSTART:20210518T160000Z
DTEND:20210518T170000Z
X-MICROSOFT-CDO-ALLDAYEVENT:FALSE
SUMMARY:Ribbon Cutting: Falcon Design Consultants
DESCRIPTION:Falcon Design Consultants (FDC-LLC) is a full-service civil design firm specializing in civil engineering\, landscape architecture\, construction administration\, surveying and planning. Falcon Design is headquartered in Metro Atlanta\, Georgia and convenient to Atlanta's International Airport. Following the Ribbon Cutting there will be door prizes. A light lunch and beverages will be available for all attendees.
X-ALT-DESC;FMTTYPE=text/html:<span style="font-size:14px\;"><span style="font-family:tahoma\;"><span id="docs-internal-guid-4109d7d0-7fff-497c-7e96-24817dbfa27e" style="caret-color: rgb(0\, 0\, 0)\; color: rgb(0\, 0\, 0)\;"><span style="color: rgb(51\, 51\, 51)\; background-color: transparent\; font-variant-ligatures: normal\; font-variant-east-asian: normal\; font-variant-position: normal\; vertical-align: baseline\; white-space: pre-wrap\;">Falcon Design Consultants (FDC-LLC) is a full-service civil design firm specializing in civil engineering\, landscape architecture\, construction administration\, surveying and planning. Falcon Design is headquartered in Metro Atlanta\, Georgia and convenient to Atlanta&rsquo\;s International Airport. Following the Ribbon Cutting there will be door prizes. A light lunch and beverages will be available for all attendees.</span></span></span></span>
LOCATION:40 Greenway Court | Suite A | Newnan
UID:e.468.17415
SEQUENCE:3
DTSTAMP:20260425T112753Z
URL:https://www.newnancowetachamber.org/events/details/ribbon-cutting-falcon-design-consultants-17415
END:VEVENT

END:VCALENDAR
