BEGIN:VCALENDAR
VERSION:2.0
PRODID:-//ChamberMaster//Event Calendar 2.0//EN
METHOD:PUBLISH
X-PUBLISHED-TTL:P3D
REFRESH-INTERVAL:P3D
CALSCALE:GREGORIAN
BEGIN:VEVENT
DTSTART:20260318T200000Z
DTEND:20260318T210000Z
X-MICROSOFT-CDO-ALLDAYEVENT:FALSE
SUMMARY:Ribbon Cutting: Farmers Home Furniture
DESCRIPTION:Please join the Newnan-Coweta Chamber in celebrating the ribbon cutting of Farmers Home Furniture. Established in 1949\, Farmers Home Furniture is one of the top 100 furniture retailers in the U.S. with over 260 store locations throughout the Southeast\, they are proud to be employee-owned and operated. As part of an Employee Stock Ownership Plan (ESOP)\, their team members don't just work here they have a stake in their success. They are guided by their founder's principles of fairness\, trust\, and outstanding service\, and remain committed to delivering quality name-brand merchandise\, affordable financing\, and exceptional service to the customers and communities they serve. They will have snacks\, door prizes\, special discounts\, etc. during the ribbon cutting celebration.
X-ALT-DESC;FMTTYPE=text/html:Please join the Newnan-Coweta Chamber in celebrating the ribbon cutting of Farmers Home Furniture.&nbsp\;Established in 1949\, Farmers Home Furniture is one of the top 100 furniture retailers in the U.S. with over 260 store locations throughout the Southeast\, they are proud to be employee-owned and operated. As part of an Employee Stock Ownership Plan (ESOP)\, their team members don&rsquo\;t just work here&mdash\;they have a stake in their success. They are guided by their founder&rsquo\;s principles of fairness\, trust\, and outstanding service\, and remain committed to delivering quality name-brand merchandise\, affordable financing\, and exceptional service to the customers and communities they serve. <strong>They&nbsp\;will have snacks\, door prizes\, special discounts\, etc. during the ribbon cutting celebration.</strong>
LOCATION:64 Bullsboro Drive Newnan\, GA 30263
UID:e.468.23436
SEQUENCE:3
DTSTAMP:20260421T090913Z
URL:https://www.newnancowetachamber.org/events/details/ribbon-cutting-farmers-home-furniture-23436
END:VEVENT

END:VCALENDAR
