BEGIN:VCALENDAR
VERSION:2.0
PRODID:-//ChamberMaster//Event Calendar 2.0//EN
METHOD:PUBLISH
X-PUBLISHED-TTL:P3D
REFRESH-INTERVAL:P3D
CALSCALE:GREGORIAN
BEGIN:VEVENT
DTSTART:20230419T160000Z
DTEND:20230419T170000Z
X-MICROSOFT-CDO-ALLDAYEVENT:FALSE
SUMMARY:Ribbon Cutting: Floor & Decor
DESCRIPTION:Join us for the Ribbon Cutting of Floor & Decor. Floor & Decor is a leading specialty retailer of hard surface flooring\, offering the broadest in-stock selection of tile\, wood\, stone\, related tools and flooring accessories at everyday low prices. Founded in 2000 and headquartered in Atlanta\, Floor & Decor is one of Fortune's 100 fastest-growing companies. Guests of the Ribbon Cutting can enjoy coffee and pastries during the event. Please register!
X-ALT-DESC;FMTTYPE=text/html:<span style="font-size:14px\;"><span style="font-family:tahoma\;"><span style="caret-color: rgb(0\, 0\, 0)\;">Join us for the Ribbon Cutting of Floor &amp\; Decor. Floor &amp\; Decor is a leading specialty retailer of hard surface flooring\, offering the broadest in-stock selection of tile\, wood\, stone\, related tools and flooring accessories at everyday low prices. Founded in 2000 and headquartered in Atlanta\, Floor &amp\; Decor is one of Fortune&#39\;s 100 fastest-growing companies. Guests of the Ribbon Cutting can enjoy coffee and pastries during&nbsp\;</span></span></span><font face="tahoma"><span style="caret-color: rgb(0\, 0\, 0)\; font-size: 14px\;">the event. Please register!</span></font>
LOCATION:55 Fischer Marketplace Lane Sharpsburg\, Georgia 30277
UID:e.468.18645
SEQUENCE:3
DTSTAMP:20260422T112459Z
URL:https://www.newnancowetachamber.org/events/details/ribbon-cutting-floor-decor-18645
END:VEVENT

END:VCALENDAR
