BEGIN:VCALENDAR
VERSION:2.0
PRODID:-//ChamberMaster//Event Calendar 2.0//EN
METHOD:PUBLISH
X-PUBLISHED-TTL:P3D
REFRESH-INTERVAL:P3D
CALSCALE:GREGORIAN
BEGIN:VEVENT
DTSTART:20220512T200000Z
DTEND:20220512T210000Z
X-MICROSOFT-CDO-ALLDAYEVENT:FALSE
SUMMARY:Ribbon Cutting: Foundation Christian Church
DESCRIPTION:Join us for the Ribbon Cutting of Foundation Christian Church! Foundation exists to create a "you belong here" movement where people are the destination and Jesus is in the lead. The Ribbon Cutting celebration is in honor of the grand opening of their new 24/7 space in the old Wells Fargo building in the heart of Downtown Newnan. A food truck and their ice cream truck are serving food at the event. Please register and enjoy a tour of the new space!
X-ALT-DESC;FMTTYPE=text/html:<font color="#000000" face="tahoma"><span style="caret-color: rgb(0\, 0\, 0)\; font-size: 14px\;">Join us for the Ribbon Cutting of Foundation Christian Church! Foundation exists to create a &quot\;you belong here&quot\; movement where people are the destination and Jesus is in the lead.&nbsp\;The Ribbon Cutting celebration is in honor of the grand opening of their new 24/7 space in the old Wells Fargo building in the heart of Downtown Newnan. A food truck and their ice cream truck are serving food at the event. Please register and enjoy a tour of the new space!</span></font>
LOCATION:6 Perry Street Newnan\, GA 30263
UID:e.468.18386
SEQUENCE:3
DTSTAMP:20260424T153353Z
URL:https://www.newnancowetachamber.org/events/details/ribbon-cutting-foundation-christian-church-18386
END:VEVENT

END:VCALENDAR
