BEGIN:VCALENDAR
VERSION:2.0
PRODID:-//ChamberMaster//Event Calendar 2.0//EN
METHOD:PUBLISH
X-PUBLISHED-TTL:P3D
REFRESH-INTERVAL:P3D
CALSCALE:GREGORIAN
BEGIN:VEVENT
DTSTART:20210419T140000Z
DTEND:20210419T150000Z
X-MICROSOFT-CDO-ALLDAYEVENT:FALSE
SUMMARY:Ribbon Cutting: Freddy’s Frozen Custard and Steakburgers
DESCRIPTION:Come join us as we celebrate the opening of Freddy's Frozen Custard and Steakburgers. This is a place where enjoying great food without a long wait doesn't mean your meal has to be cooked before you order it. From steakburgers to sundaes\, Freddy's makes food fresh after you ask for it because that's the kind of quality you deserve. Take a moment to catch up with friends and family\; it's almost time to eat.\n\nRSVP please!
X-ALT-DESC;FMTTYPE=text/html:<span style="font-family:calibri\,sans-serif\;"><span style="font-size:11.0pt\;">Come join us as we celebrate the opening of Freddy&#39\;s Frozen Custard and Steakburgers. This is a place where enjoying great food without a long wait doesn&#39\;t mean your meal has to be cooked before you order it. From steakburgers to sundaes\, Freddy&#39\;s makes food fresh after you ask for it because that&#39\;s the kind of quality you deserve. Take a moment to catch up with friends and family\; it&#39\;s almost time to eat.<br />\n<strong>RSVP please!</strong></span></span>
LOCATION:1456 Newnan Crossing Blvd E\, Newnan\, Ga 30265
UID:e.468.17055
SEQUENCE:3
DTSTAMP:20260425T131347Z
URL:https://www.newnancowetachamber.org/events/details/ribbon-cutting-freddy-s-frozen-custard-and-steakburgers-17055
END:VEVENT

END:VCALENDAR
