BEGIN:VCALENDAR
VERSION:2.0
PRODID:-//ChamberMaster//Event Calendar 2.0//EN
METHOD:PUBLISH
X-PUBLISHED-TTL:P3D
REFRESH-INTERVAL:P3D
CALSCALE:GREGORIAN
BEGIN:VEVENT
DTSTART:20210429T160000Z
DTEND:20210429T170000Z
X-MICROSOFT-CDO-ALLDAYEVENT:FALSE
SUMMARY:Ribbon Cutting: Georgia Spa Company
DESCRIPTION:Please join the Newnan-Coweta Chamber in welcoming Georgia Spa Company to the Newnan community! Georgia Spa Company is your best source for premium hot tubs\, swim spas and saunas as well as professional spa and hot tub repair service. They carry Hot Spring Spas\, Finnleo Saunas\, Endless Pools\, Big Green Egg\, Bull BBQ Outdoor Kitchens\, The Beefer and Infinity Massage Chairs. Georgia Spa Company provides a satisfaction guarantee for all products and services provided. When Quality and Service count\, you can count on Georgia Spa Company\, one of only two Trade Certified Spa Dealers in the state.
X-ALT-DESC;FMTTYPE=text/html:<span style="font-size:14px\;"><span style="font-family:tahoma\;">Please join the Newnan-Coweta Chamber in welcoming Georgia Spa Company to the Newnan community!&nbsp\;</span></span><span style="font-family: tahoma\; font-size: 14px\;">Georgia Spa Company is your best source for premium hot tubs\, swim spas and saunas as well as professional spa and hot tub repair service. They carry Hot Spring Spas\, Finnleo Saunas\, Endless Pools\, Big Green Egg\, Bull BBQ Outdoor Kitchens\, The Beefer and Infinity Massage Chairs.&nbsp\;</span><span style="font-family: tahoma\; font-size: 14px\;">Georgia Spa Company provides a satisfaction guarantee for all products and services provided. When Quality and Service count\, you can count on Georgia Spa Company\, one of only two Trade Certified Spa Dealers in the state.</span>
LOCATION:1068 Bullsboro Drive\, Newnan
UID:e.468.17442
SEQUENCE:3
DTSTAMP:20260425T131218Z
URL:https://www.newnancowetachamber.org/events/details/ribbon-cutting-georgia-spa-company-17442
END:VEVENT

END:VCALENDAR
