BEGIN:VCALENDAR
VERSION:2.0
PRODID:-//ChamberMaster//Event Calendar 2.0//EN
METHOD:PUBLISH
X-PUBLISHED-TTL:P3D
REFRESH-INTERVAL:P3D
CALSCALE:GREGORIAN
BEGIN:VEVENT
DTSTART:20220315T160000Z
DTEND:20220315T170000Z
X-MICROSOFT-CDO-ALLDAYEVENT:FALSE
SUMMARY:Ribbon Cutting: Go Juu Restaurant
DESCRIPTION:Join us in celebrating the Ribbon Cutting of Go Juu Restaurant! Go Juu serves the best in sushi\, hibachi\, Indonesian and Asian Fusion food in its relaxed and clean environment. They are open every day\, except Tuesdays offering dine-in\, take out and delivery services. During the celebration Go Juu is providing food\, drinks\, and giveaways. Come experience their friendly staff and fast service!
X-ALT-DESC;FMTTYPE=text/html:<font color="#000000" face="tahoma"><span style="caret-color: rgb(0\, 0\, 0)\; font-size: 14px\;">Join us in celebrating the Ribbon Cutting of Go Juu Restaurant! Go Juu serves the best in sushi\, hibachi\, Indonesian and Asian Fusion food in its relaxed and clean environment. They&nbsp\;are open every day\, except Tuesdays offering d</span></font><span style="caret-color: rgb(0\, 0\, 0)\; color: rgb(0\, 0\, 0)\; font-family: tahoma\; font-size: 14px\;">ine-in\, take out and delivery services.</span><font color="#000000" face="tahoma"><span style="caret-color: rgb(0\, 0\, 0)\; font-size: 14px\;">&nbsp\;During the celebration Go Juu is providing food\, drinks\, and giveaways.&nbsp\;</span></font><span style="caret-color: rgb(0\, 0\, 0)\; color: rgb(0\, 0\, 0)\; font-family: tahoma\; font-size: 14px\;">Come experience their friendly staff and fast service!</span>
LOCATION:311 Bullsboro Drive\, Suite 190 Newnan\, GA 30263
UID:e.468.18272
SEQUENCE:3
DTSTAMP:20260424T191157Z
URL:https://www.newnancowetachamber.org/events/details/ribbon-cutting-go-juu-restaurant-18272
END:VEVENT

END:VCALENDAR
