BEGIN:VCALENDAR
VERSION:2.0
PRODID:-//ChamberMaster//Event Calendar 2.0//EN
METHOD:PUBLISH
X-PUBLISHED-TTL:P3D
REFRESH-INTERVAL:P3D
CALSCALE:GREGORIAN
BEGIN:VEVENT
DTSTART:20260409T160000Z
DTEND:20260409T170000Z
X-MICROSOFT-CDO-ALLDAYEVENT:FALSE
SUMMARY:Ribbon Cutting: Gotcha Covered Newnan Peachtree City
DESCRIPTION:Please join the Newnan-Coweta Chamber in celebrating the ribbon cutting of Gotcha Covered Newnan Peachtree City. Gotcha Covered of Newnan Peachtree City is a family-owned business specializing in custom window treatments. From draperies and shades to shutters and blinds\, they help you find the perfect solution for your style\, space\, and needs. They bring personalized service and expert design guidance right to your home. With their mobile showroom\, they handle every detail   making the process smooth\, enjoyable\, and stress-free from start to finish. They're passionate about creating beautiful\, functional spaces and delivering the kind of one-on-one attention you just won't find at big-box stores. If you (or someone you know) is updating a home   or just ready to say goodbye to bare windows   they'd love to help. Call them at 678-707-5437 to schedule your free in-home consultation today! Lunch will be provided. Special pricing available for all Chamber members. Door prizes.
X-ALT-DESC;FMTTYPE=text/html:Please join the Newnan-Coweta Chamber in celebrating the ribbon cutting of Gotcha Covered Newnan Peachtree City.&nbsp\;Gotcha Covered of Newnan Peachtree City is a family-owned business specializing in custom window treatments. From draperies and shades to shutters and blinds\, they help you find the perfect solution for your style\, space\, and needs. They bring personalized service and expert design guidance right to your home. With their mobile showroom\, they handle every detail &mdash\; making the process smooth\, enjoyable\, and stress-free from start to finish. They&rsquo\;re passionate about creating beautiful\, functional spaces and delivering the kind of one-on-one attention you just won&rsquo\;t find at big-box stores. If you (or someone you know) is updating a home &mdash\; or just ready to say goodbye to bare windows &mdash\; they&rsquo\;d love to help. Call them at 678-707-5437 to schedule your free in-home consultation today!&nbsp\;Lunch will be provided. Special pricing available for all Chamber members. Door prizes.
LOCATION:The Chamber Office 23 Bullsboro Drive Newnan\, GA 30263
UID:e.468.23444
SEQUENCE:3
DTSTAMP:20260424T122149Z
URL:https://www.newnancowetachamber.org/events/details/ribbon-cutting-gotcha-covered-newnan-peachtree-city-23444
END:VEVENT

END:VCALENDAR
