BEGIN:VCALENDAR
VERSION:2.0
PRODID:-//ChamberMaster//Event Calendar 2.0//EN
METHOD:PUBLISH
X-PUBLISHED-TTL:P3D
REFRESH-INTERVAL:P3D
CALSCALE:GREGORIAN
BEGIN:VEVENT
DTSTART:20240418T160000Z
DTEND:20240418T190000Z
X-MICROSOFT-CDO-ALLDAYEVENT:FALSE
SUMMARY:Ribbon Cutting/Grand Opening: Everhome Suites
DESCRIPTION:Join the Newnan-Coweta Chamber in celebrating the ribbon cutting/grand opening of Everhome Suites. Everhome Suites  Atlanta Newnan extended stay hotel offers apartment-style accommodations for anyone who needs a longer stay\, including pets. Whether you're in Newnan\, GA for a couple weeks or a couple months\, our studio and one-bedroom suites provide kitchen and living spaces that feel like home. Plus\, you'll have access to free wifi\, a fitness center and laundry facilities on-site. You'll also find their location off I-85 convenient for enjoying the nearby attractions of Atlanta. Local food truck vendors\, door prizes\, discounted rates for all attendees.
X-ALT-DESC;FMTTYPE=text/html:Join the Newnan-Coweta Chamber in celebrating the ribbon cutting/grand opening of Everhome Suites.&nbsp\;Everhome Suites&reg\; Atlanta Newnan extended stay hotel offers apartment-style accommodations for anyone who needs a longer stay\, including pets. Whether you&#39\;re in Newnan\, GA for a couple weeks or a couple months\, our studio and one-bedroom suites provide kitchen and living spaces that feel like home. Plus\, you&#39\;ll have access to free wifi\, a fitness center and laundry facilities on-site. You&#39\;ll also find their location off I-85 convenient for enjoying the nearby attractions of Atlanta.&nbsp\;Local food truck vendors\, door prizes\, discounted rates for all attendees.
LOCATION:61 Diplomat Parkway Newnan\, GA 30265
UID:e.468.20256
SEQUENCE:3
DTSTAMP:20260419T154704Z
URL:https://www.newnancowetachamber.org/events/details/ribbon-cutting-grand-opening-everhome-suites-20256
END:VEVENT

END:VCALENDAR
