BEGIN:VCALENDAR
VERSION:2.0
PRODID:-//ChamberMaster//Event Calendar 2.0//EN
METHOD:PUBLISH
X-PUBLISHED-TTL:P3D
REFRESH-INTERVAL:P3D
CALSCALE:GREGORIAN
BEGIN:VEVENT
DTSTART:20210608T200000Z
DTEND:20210608T210000Z
X-MICROSOFT-CDO-ALLDAYEVENT:FALSE
SUMMARY:Ribbon Cutting: Grayson's Steak & Seafood
DESCRIPTION:Grayson's Steak and Seafood\, named after the owner's grandson\, is a quaint\, family-owned\, fine dining restaurant. Leonard Guillaume\, owner of local favorite\, Mama Lucia's\, is also the owner and operator of Grayson's which features hand-cut prime steaks\, fresh wild-caught seafood\, and an extensive international wine list. The event features beer\, wine\, and heavy appetizers. To get the party started\, Grayson's will be offering gift certificates as door prizes. Please register!
X-ALT-DESC;FMTTYPE=text/html:<span style="font-size:14px\;"><span style="font-family:tahoma\;"><span style="caret-color: rgb(0\, 0\, 0)\; color: rgb(0\, 0\, 0)\;">Grayson&#39\;s Steak and Seafood\, named after the owner&#39\;s grandson\, is a quaint\, family-owned\, fine dining restaurant. Leonard Guillaume\, owner of local favorite\, Mama Lucia&#39\;s\, </span></span></span><span style="caret-color: rgb(0\, 0\, 0)\; color: rgb(0\, 0\, 0)\; font-family: tahoma\; font-size: 14px\;">is also the owner and operator of Grayson&#39\;s&nbsp\;</span><span style="font-size:14px\;"><span style="font-family:tahoma\;"><span style="caret-color: rgb(0\, 0\, 0)\; color: rgb(0\, 0\, 0)\;">which features hand-cut prime steaks\, fresh wild-caught seafood\, and an extensive international wine list. The event features beer\, wine\, and heavy appetizers. To get the party started\, Grayson&#39\;s will be offering gift certificates as door prizes.&nbsp\;</span></span></span><font color="#000000" face="tahoma"><span style="caret-color: rgb(0\, 0\, 0)\; font-size: 14px\;">Please register!</span></font>
LOCATION:91 Millard Farmer Industrial Blvd. | Newnan
UID:e.468.17448
SEQUENCE:3
DTSTAMP:20260425T112746Z
URL:https://www.newnancowetachamber.org/events/details/ribbon-cutting-grayson-s-steak-seafood-17448
END:VEVENT

END:VCALENDAR
