BEGIN:VCALENDAR
VERSION:2.0
PRODID:-//ChamberMaster//Event Calendar 2.0//EN
METHOD:PUBLISH
X-PUBLISHED-TTL:P3D
REFRESH-INTERVAL:P3D
CALSCALE:GREGORIAN
BEGIN:VEVENT
DTSTART:20240718T160000Z
DTEND:20240718T170000Z
X-MICROSOFT-CDO-ALLDAYEVENT:FALSE
SUMMARY:Ribbon Cutting: Healing Bridge Clinic
DESCRIPTION:Please join the Newnan-Coweta Chamber in celebrating the ribbon cutting of Healing Bridge Clinic! Healing Bridge Clinic is in their 15th year of serving the underserved community. They have recently renovated their facility and are ready to cut the ribbon and begin serving those in need. Lunch will be served.
X-ALT-DESC;FMTTYPE=text/html:Please join the Newnan-Coweta Chamber in celebrating the ribbon cutting of Healing Bridge Clinic!&nbsp\;Healing Bridge Clinic is in their 15th year of serving the underserved community. They have recently renovated their facility and are ready to cut the ribbon and begin serving those in need. Lunch will be served.
LOCATION:215 Willow Bend Road Peachtree City\, GA 30269
UID:e.468.20456
SEQUENCE:3
DTSTAMP:20260420T015711Z
URL:https://www.newnancowetachamber.org/events/details/ribbon-cutting-healing-bridge-clinic-20456
END:VEVENT

END:VCALENDAR
