BEGIN:VCALENDAR
VERSION:2.0
PRODID:-//ChamberMaster//Event Calendar 2.0//EN
METHOD:PUBLISH
X-PUBLISHED-TTL:P3D
REFRESH-INTERVAL:P3D
CALSCALE:GREGORIAN
BEGIN:VEVENT
DTSTART:20220607T160000Z
DTEND:20220607T170000Z
X-MICROSOFT-CDO-ALLDAYEVENT:FALSE
SUMMARY:Ribbon Cutting: Healthy Vibe Nutrition
DESCRIPTION:Join the Newnan-Coweta Chamber for the Ribbon Cutting of Healthy Vibe Nutrition! Healthy Vibe Nutrition is co- owned by Erika Bean and Andrea Turner. Both women are passionate about wellness and helping individuals become their best selves. Their combined passion for helping others and love for this community is what inspired them to team up at Healthy Vibe Nutrition! During the event Healthy Vibe provides samplings of shakes and teas and hosts a door prize for gift certificates\, as well as $5 shakes and teas! Please register.
X-ALT-DESC;FMTTYPE=text/html:<span style="font-size:14px\;"><span style="font-family:tahoma\;">Join the Newnan-Coweta Chamber for the Ribbon Cutting of Healthy Vibe Nutrition!&nbsp\;<span style="caret-color: rgb(0\, 0\, 0)\;">Healthy Vibe Nutrition is co- owned by Erika Bean and Andrea Turner. Both women are passionate about wellness and helping individuals become their best selves. Their combined passion for helping others and love for this community is what inspired them to team up at Healthy Vibe Nutrition! During the event Healthy Vibe provides s</span><span style="caret-color: rgb(0\, 0\, 0)\;">amplings of shakes and teas and hosts a door prize for gift certificates\, as well as $5 shakes and teas! Please register.&nbsp\;</span></span></span>
LOCATION:1485 Hwy 34 E Suite 6 Newnan\, GA 30265
UID:e.468.18477
SEQUENCE:3
DTSTAMP:20260424T135533Z
URL:https://www.newnancowetachamber.org/events/details/ribbon-cutting-healthy-vibe-nutrition-18477
END:VEVENT

END:VCALENDAR
