BEGIN:VCALENDAR
VERSION:2.0
PRODID:-//ChamberMaster//Event Calendar 2.0//EN
METHOD:PUBLISH
X-PUBLISHED-TTL:P3D
REFRESH-INTERVAL:P3D
CALSCALE:GREGORIAN
BEGIN:VEVENT
DTSTART:20221202T200000Z
DTEND:20221202T210000Z
X-MICROSOFT-CDO-ALLDAYEVENT:FALSE
SUMMARY:Ribbon Cutting: Heart and Vascular Care of Georgia
DESCRIPTION:Join the Newnan-Coweta Chamber for the Ribbon Cutting of Heart and Vascular Care of Georgia! Heart and Vascular of Georgia is an independently owned medical practice that offers the latest in cardiovascular care with an emphasis on prevention. Their practice is now open and walk-ins are welcome! There will be door prizes and a BBQ during the event. Please register.
X-ALT-DESC;FMTTYPE=text/html:<font face="tahoma"><span style="caret-color: rgb(0\, 0\, 0)\; font-size: 14px\;">Join the Newnan-Coweta Chamber for the Ribbon Cutting of Heart and Vascular Care of Georgia! Heart and Vascular of Georgia is an independently owned medical practice that offers the latest in cardiovascular care with an emphasis on prevention. Their practice is now open and walk-ins are welcome! There will be door prizes and a BBQ during the event. Please&nbsp\;register.</span></font>
LOCATION:10 Ashmore Drive Newnan\, Georgia 30265
UID:e.468.18588
SEQUENCE:3
DTSTAMP:20260421T090936Z
URL:https://www.newnancowetachamber.org/events/details/ribbon-cutting-heart-and-vascular-care-of-georgia-18588
END:VEVENT

END:VCALENDAR
