BEGIN:VCALENDAR
VERSION:2.0
PRODID:-//ChamberMaster//Event Calendar 2.0//EN
METHOD:PUBLISH
X-PUBLISHED-TTL:P3D
REFRESH-INTERVAL:P3D
CALSCALE:GREGORIAN
BEGIN:VEVENT
DTSTART:20240829T160000Z
DTEND:20240829T170000Z
X-MICROSOFT-CDO-ALLDAYEVENT:FALSE
SUMMARY:Ribbon cutting: Help at Home
DESCRIPTION:Please join the Newnan-Coweta Chamber in celebrating the ribbon cutting of Help at Home! Help at Home is an In-Home Care Provider\, providing quality care in the comfort of your home. Their trained caregivers help with activities of daily living. They are the leading national provider of care and support solutions\, as a focused company that is rooted in the communities they serve. Lunch will be served. Door prizes.
X-ALT-DESC;FMTTYPE=text/html:Please join the Newnan-Coweta Chamber in celebrating the ribbon cutting of Help at Home!&nbsp\;Help at Home is an In-Home Care Provider\, providing quality care in the comfort of your home. Their trained caregivers help with activities of daily living. They are the leading national provider of care and support solutions\, as a focused company that is rooted in the communities they serve.&nbsp\;Lunch will be served. Door prizes.
LOCATION:51 Market Square Road Suite C Newnan\, GA 30263
UID:e.468.20479
SEQUENCE:3
DTSTAMP:20260420T033723Z
URL:https://www.newnancowetachamber.org/events/details/ribbon-cutting-help-at-home-20479
END:VEVENT

END:VCALENDAR
