BEGIN:VCALENDAR
VERSION:2.0
PRODID:-//ChamberMaster//Event Calendar 2.0//EN
METHOD:PUBLISH
X-PUBLISHED-TTL:P3D
REFRESH-INTERVAL:P3D
CALSCALE:GREGORIAN
BEGIN:VEVENT
DTSTART:20220616T160000Z
DTEND:20220616T170000Z
X-MICROSOFT-CDO-ALLDAYEVENT:FALSE
SUMMARY:Ribbon Cutting: Hero Roofing
DESCRIPTION:Hero Roofing is a family-owned roofing company that offers full-service roofing for both residential and commercial clients in and around Coweta County. They offer a variety of services such as new roof repairs\, roof installations\, and gutters and skylights. Get the assurance you need by working with their local\, qualified\, and dependable roofing professionals! Please register for the Ribbon Cutting event.
X-ALT-DESC;FMTTYPE=text/html:<span style="font-size:14px\;"><span style="font-family:tahoma\;"><span style="caret-color: rgb(0\, 0\, 0)\; color: rgb(0\, 0\, 0)\;">Hero Roofing is a family-owned roofing company that offers full-service roofing for both residential and commercial clients in and around Coweta County. They offer a variety of services such as new roof repairs\, roof installations\, and gutters and skylights. Get the assurance you need by working with their local\, qualified\, and dependable roofing professionals! Please register for the Ribbon Cutting event.&nbsp\;</span></span></span>
LOCATION:751 Corinth Road Newnan\, GA 30263
UID:e.468.18373
SEQUENCE:3
DTSTAMP:20260424T135416Z
URL:https://www.newnancowetachamber.org/events/details/ribbon-cutting-hero-roofing-18373
END:VEVENT

END:VCALENDAR
