BEGIN:VCALENDAR
VERSION:2.0
PRODID:-//ChamberMaster//Event Calendar 2.0//EN
METHOD:PUBLISH
X-PUBLISHED-TTL:P3D
REFRESH-INTERVAL:P3D
CALSCALE:GREGORIAN
BEGIN:VEVENT
DTSTART:20210331T160000Z
DTEND:20210331T170000Z
X-MICROSOFT-CDO-ALLDAYEVENT:FALSE
SUMMARY:Ribbon Cutting: Hire Dynamics
DESCRIPTION:Join the Newnan-Coweta Chamber as we celebrate a milestone for Hire Dynamics\, one of the leaders in the recruiting and staffing industry in Coweta County. They have outgrown their old office and will be moving to bigger and newer office space!
X-ALT-DESC;FMTTYPE=text/html:Join the Newnan-Coweta Chamber as we celebrate a milestone for Hire Dynamics\, one of the leaders in the recruiting and staffing industry in Coweta County. They have outgrown their old office and will be moving to bigger and newer office space!&nbsp\;
LOCATION:597 Bullsboro Drive\, Suite B\, Newnan\, Ga 30263
UID:e.468.17079
SEQUENCE:3
DTSTAMP:20260425T144303Z
URL:https://www.newnancowetachamber.org/events/details/ribbon-cutting-hire-dynamics-17079
END:VEVENT

END:VCALENDAR
