BEGIN:VCALENDAR
VERSION:2.0
PRODID:-//ChamberMaster//Event Calendar 2.0//EN
METHOD:PUBLISH
X-PUBLISHED-TTL:P3D
REFRESH-INTERVAL:P3D
CALSCALE:GREGORIAN
BEGIN:VEVENT
DTSTART:20220520T160000Z
DTEND:20220520T170000Z
X-MICROSOFT-CDO-ALLDAYEVENT:FALSE
SUMMARY:Ribbon Cutting: Hotworx
DESCRIPTION:Join us for the Ribbon Cutting of Hotworx! Hotworx is a 24-hour fitness studio that offers virtually instructed\, low impact workouts inside of an infrared sauna. Members of all fitness levels are welcome to experience the many benefits of their infrared sauna workouts\, all of which range from 15-30 minutes. During the celebration\, Hotworx is providing new member promotions and $20 enrollments\, 15% off all retail\, and energy teas and lunch. Please register!
X-ALT-DESC;FMTTYPE=text/html:<span style="font-size:14px\;"><span style="font-family:tahoma\;">Join us for the Ribbon Cutting of Hotworx! Hotworx is<span style="caret-color: rgb(0\, 0\, 0)\;">&nbsp\;a 24-hour fitness studio that offers virtually instructed\, low impact workouts inside of an infrared sauna. Members of all fitness levels are welcome to experience the many benefits of their infrared sauna workouts\, all of which range from 15-30 minutes. During the celebration\, Hotworx is providing n</span><span style="caret-color: rgb(0\, 0\, 0)\;">ew member promotions and $20 enrollments\, 15% off all retail\, and energy teas and lunch. Please register!</span></span></span>
LOCATION:1111 Bullsboro Drive | Suite 10 Newnan\, GA 30263
UID:e.468.18395
SEQUENCE:3
DTSTAMP:20260424T155759Z
URL:https://www.newnancowetachamber.org/events/details/ribbon-cutting-hotworx-18395
END:VEVENT

END:VCALENDAR
