BEGIN:VCALENDAR
VERSION:2.0
PRODID:-//ChamberMaster//Event Calendar 2.0//EN
METHOD:PUBLISH
X-PUBLISHED-TTL:P3D
REFRESH-INTERVAL:P3D
CALSCALE:GREGORIAN
BEGIN:VEVENT
DTSTART:20230412T160000Z
DTEND:20230412T170000Z
X-MICROSOFT-CDO-ALLDAYEVENT:FALSE
SUMMARY:Ribbon Cutting: Human Interest
DESCRIPTION:Join us for the Ribbon Cutting of Human Interest! Human Interest is a full-service 401k/403b company with a goal to provide small and medium-sized businesses access to a secure financial future. The event\, held at the Chamber office\, provides food and beverages for attendees. Please register!
X-ALT-DESC;FMTTYPE=text/html:<font face="tahoma"><span style="font-size: 14px\;">Join us for the Ribbon Cutting of Human Interest! Human Interest is</span><span style="caret-color: rgb(0\, 0\, 0)\; font-size: 14px\;">&nbsp\;a full-service 401k/403b company with a goal to provide small and medium-sized businesses access to a secure financial future. The event\, held at the Chamber office\, provides food and beverages for&nbsp\;attendees. Please register!</span></font>
LOCATION:The Chamber 23 Bullsboro Drive Newnan\, Georgia 30263
UID:e.468.18796
SEQUENCE:3
DTSTAMP:20260422T112457Z
URL:https://www.newnancowetachamber.org/events/details/ribbon-cutting-human-interest-18796
END:VEVENT

END:VCALENDAR
