BEGIN:VCALENDAR
VERSION:2.0
PRODID:-//ChamberMaster//Event Calendar 2.0//EN
METHOD:PUBLISH
X-PUBLISHED-TTL:P3D
REFRESH-INTERVAL:P3D
CALSCALE:GREGORIAN
BEGIN:VEVENT
DTSTART:20230309T170000Z
DTEND:20230309T180000Z
X-MICROSOFT-CDO-ALLDAYEVENT:FALSE
SUMMARY:Ribbon Cutting: Huntington Learning Center
DESCRIPTION:Join us for the Ribbon Cutting of Huntington Learning Center! Huntington Learning Center provides excellent skills in helping students achieve their goals through individualized instruction. They have been leaders in the tutoring and test prep business for over 40 years. Huntington's certified tutors provide individualized instruction in reading\, phonics\, writing\, study skills\, elementary and middle school math\, Algebra through Calculus\, Chemistry\, and other sciences as well as tutoring and ACT/SAT test prep. Attendees can enjoy a light lunch\, in addition to door prizes and discounts. Please register!
X-ALT-DESC;FMTTYPE=text/html:<span style="font-size:14px\;"><span style="font-family:tahoma\;"><span style="caret-color: rgb(0\, 0\, 0)\;">Join us for the Ribbon Cutting of Huntington Learning Center! Huntington Learning Center provides excellent skills in helping students achieve their goals through individualized instruction. They have been leaders in the tutoring and test prep business for over 40 years. Huntington&#39\;s certified tutors provide individualized instruction in reading\, phonics\, writing\, study skills\, elementary and middle school math\, Algebra through Calculus\, Chemistry\, and other sciences as well as tutoring and ACT/SAT test prep. Attendees can enjoy a light&nbsp\;</span></span></span><font face="tahoma"><span style="caret-color: rgb(0\, 0\, 0)\; font-size: 14px\;">lunch\, in addition to door prizes and discounts.&nbsp\;Please register!</span></font>
LOCATION:1111 Lower Fayetteville Road\, Suite 1200 Newnan\, Georgia 30265
UID:e.468.18720
SEQUENCE:3
DTSTAMP:20260422T130049Z
URL:https://www.newnancowetachamber.org/events/details/ribbon-cutting-huntington-learning-center-18720
END:VEVENT

END:VCALENDAR
