BEGIN:VCALENDAR
VERSION:2.0
PRODID:-//ChamberMaster//Event Calendar 2.0//EN
METHOD:PUBLISH
X-PUBLISHED-TTL:P3D
REFRESH-INTERVAL:P3D
CALSCALE:GREGORIAN
BEGIN:VEVENT
DTSTART:20210330T143000Z
DTEND:20210331T033000Z
X-MICROSOFT-CDO-ALLDAYEVENT:FALSE
SUMMARY:Ribbon Cutting: Jim 'N Nick's BBQ
DESCRIPTION:Jim 'N Nick's is a locally owned BBQ restaurant that's excited to join the Sharpsburg community! We are a laid-back restaurant known for slow-cooked BBQ & cheese biscuits\, plus burgers\, salads & classic sides. We also offer catering services. Join us before the ribbon cutting for complimentary cheese biscuits and non-alcoholic beverages.
X-ALT-DESC;FMTTYPE=text/html:<span style="font-size:14px\;"><span style="font-family:tahoma\;"><span style="caret-color: rgb(0\, 0\, 0)\; color: rgb(0\, 0\, 0)\;">Jim &#39\;N Nick&#39\;s is a locally owned BBQ restaurant that&#39\;s excited to join the Sharpsburg community! We are a laid-back restaurant known for slow-cooked BBQ &amp\; cheese biscuits\, plus burgers\, salads &amp\; classic sides. We also offer catering services. Join us before the ribbon cutting for&nbsp\;complimentary cheese biscuits and non-alcoholic beverages.</span></span></span>
LOCATION:205 Fischer Crossings Blvd. Sharpsburg\, 30277
UID:e.468.17426
SEQUENCE:3
DTSTAMP:20260425T144656Z
URL:https://www.newnancowetachamber.org/events/details/ribbon-cutting-jim-n-nick-s-bbq-17426
END:VEVENT

END:VCALENDAR
