BEGIN:VCALENDAR
VERSION:2.0
PRODID:-//ChamberMaster//Event Calendar 2.0//EN
METHOD:PUBLISH
X-PUBLISHED-TTL:P3D
REFRESH-INTERVAL:P3D
CALSCALE:GREGORIAN
BEGIN:VEVENT
DTSTART:20210412T140000Z
DTEND:20210412T150000Z
X-MICROSOFT-CDO-ALLDAYEVENT:FALSE
SUMMARY:Ribbon Cutting: JM Discount Clothing
DESCRIPTION:JM Discount Clothing sells brand name clothing\, accessories\, and perfumes at discount prices. Their discounts are up to 75% off the original retail prices. They are a family-owned business and have lived in Coweta County all of their lives.  Door prizes and special discounts will be available during this time--please RSVP!
X-ALT-DESC;FMTTYPE=text/html:<span style="font-size:14px\;"><span style="font-family:tahoma\;">JM Discount Clothing sells brand name clothing\, accessories\, and perfumes at discount prices. Their discounts are up to 75% off the original retail prices. They are a family-owned business and have lived in Coweta County all of their lives.&nbsp\; Door prizes and special discounts will be available during this time--please RSVP!</span></span>
LOCATION:259 Temple Ave | Newnan 30263 Located in the Westside Plaza next to One Roof
UID:e.468.17220
SEQUENCE:3
DTSTAMP:20260425T131200Z
URL:https://www.newnancowetachamber.org/events/details/ribbon-cutting-jm-discount-clothing-17220
END:VEVENT

END:VCALENDAR
