BEGIN:VCALENDAR
VERSION:2.0
PRODID:-//ChamberMaster//Event Calendar 2.0//EN
METHOD:PUBLISH
X-PUBLISHED-TTL:P3D
REFRESH-INTERVAL:P3D
CALSCALE:GREGORIAN
BEGIN:VEVENT
DTSTART:20240813T200000Z
DTEND:20240813T220000Z
X-MICROSOFT-CDO-ALLDAYEVENT:FALSE
SUMMARY:Ribbon cutting: Johnson Construction Group
DESCRIPTION:Please join us for a ribbon cutting for Johnson Construction Group! They are a do-it-all General Contractor. They specialize in residential and commercial remodels. Their specialties are... well everything! JCG does basements\, kitchens\, new additions\, tenant buildouts\, new build from the ground up. etc. Food\, beverages and drawings.
X-ALT-DESC;FMTTYPE=text/html:Please join us for a ribbon cutting for Johnson Construction Group!&nbsp\;They are a do-it-all General Contractor. They specialize in residential and commercial remodels. Their specialties are... well everything! JCG does basements\, kitchens\, new additions\, tenant buildouts\, new build from the ground up. etc.&nbsp\;Food\, beverages and drawings.
LOCATION:3025 B Sharpsburg McCullum Road (Behind the Kids R Kids Day Care. Pull into parking lot and go around back.) Newnan\, GA 30265
UID:e.468.20421
SEQUENCE:3
DTSTAMP:20260420T033632Z
URL:https://www.newnancowetachamber.org/events/details/ribbon-cutting-johnson-construction-group-20421
END:VEVENT

END:VCALENDAR
