BEGIN:VCALENDAR
VERSION:2.0
PRODID:-//ChamberMaster//Event Calendar 2.0//EN
METHOD:PUBLISH
X-PUBLISHED-TTL:P3D
REFRESH-INTERVAL:P3D
CALSCALE:GREGORIAN
BEGIN:VEVENT
DTSTART:20220421T160000Z
DTEND:20220421T170000Z
X-MICROSOFT-CDO-ALLDAYEVENT:FALSE
SUMMARY:Ribbon Cutting: Journals and Ledgers
DESCRIPTION:Join us for the Ribbon Cutting celebration of Journals & Ledgers\, a full-service bookkeeping firm located in downtown Senoia! They partner with entrepreneurs to offer business solutions that maximize cash flow and profitability. Snacks and drinks are served during this event!
X-ALT-DESC;FMTTYPE=text/html:<span style="font-size:14px\;"><span style="font-family:tahoma\;"><span style="caret-color: rgb(0\, 0\, 0)\; color: rgb(0\, 0\, 0)\; text-size-adjust: auto\;">Join us for the Ribbon Cutting celebration of Journals &amp\; Ledgers\, a full-service bookkeeping firm located in downtown Senoia! They partner with entrepreneurs to offer business solutions that maximize cash flow and profitability.&nbsp\;</span></span></span><font color="#000000" face="Calibri\, sans-serif\, serif\, EmojiFont"><span style="caret-color: rgb(0\, 0\, 0)\; font-size: 14.670000076293945px\;">Snacks and drinks are served during this event!</span></font>
LOCATION:42 Main Street\, Suite 2A Senoia\, Georgia 30276
UID:e.468.18075
SEQUENCE:3
DTSTAMP:20260424T173939Z
URL:https://www.newnancowetachamber.org/events/details/ribbon-cutting-journals-and-ledgers-18075
END:VEVENT

END:VCALENDAR
