BEGIN:VCALENDAR
VERSION:2.0
PRODID:-//ChamberMaster//Event Calendar 2.0//EN
METHOD:PUBLISH
X-PUBLISHED-TTL:P3D
REFRESH-INTERVAL:P3D
CALSCALE:GREGORIAN
BEGIN:VEVENT
DTSTART:20231018T160000Z
DTEND:20231018T170000Z
X-MICROSOFT-CDO-ALLDAYEVENT:FALSE
SUMMARY:Ribbon Cutting: Just Us Kids Pediatrics
DESCRIPTION:Join the Chamber for the Just Us Kids Pediatrics Ribbon Cutting of their new location!\n\n\n\nJust Us Kids Pediatrics opened in June 2012. Dr. Justice has always dreamed of owning her own practice in the community in which she serves. Just Us Kids strives to maintain the personal touch and customer service that every child and family so deserves. It is our desire to make your child's visit to the pediatrician's office as fun and comfortable as possible.\n\n\n\nThe majority of our team members are moms so we value practicing medicine in a nurturing way. We have a passion for serving children and their families and would LOVE the opportunity to serve you.
X-ALT-DESC;FMTTYPE=text/html:Join the Chamber for the Just Us Kids Pediatrics Ribbon Cutting of their new location!<br />\n<br />\nJust Us Kids Pediatrics opened in June 2012. Dr. Justice has always dreamed of owning her own practice in the community in which she serves. Just Us Kids strives to maintain the personal touch and customer service that every child and family so deserves. It is our desire to make your child&#39\;s visit to the pediatrician&#39\;s office as fun and comfortable as possible.<br />\n<br />\nThe majority of our team members are moms so we value practicing medicine in a nurturing way.&nbsp\;We have a passion for serving children and their families and would LOVE the opportunity to serve you.&nbsp\;
LOCATION:105 Oak Hill Blvd. Newnan\, GA 30263
UID:e.468.18953
SEQUENCE:3
DTSTAMP:20260420T015756Z
URL:https://www.newnancowetachamber.org/events/details/ribbon-cutting-just-us-kids-pediatrics-18953
END:VEVENT

END:VCALENDAR
