BEGIN:VCALENDAR
VERSION:2.0
PRODID:-//ChamberMaster//Event Calendar 2.0//EN
METHOD:PUBLISH
X-PUBLISHED-TTL:P3D
REFRESH-INTERVAL:P3D
CALSCALE:GREGORIAN
BEGIN:VEVENT
DTSTART:20240703T150000Z
DTEND:20240703T160000Z
X-MICROSOFT-CDO-ALLDAYEVENT:FALSE
SUMMARY:Ribbon Cutting: Karvelas Pizza Co/Senoia
DESCRIPTION:Please join the Newnan-Coweta Chamber in celebrating the ribbon cutting of Karvelas Pizza Co new location in Senoia! A family owned and operated pizzeria that started in Hogansville\, Georgia. Providing homemade recipes\, hand crafted sauces\, and fresh never frozen ingredients. They want to personally extend an invite to the Coweta Community for the opening of their 6th location in Senoia\, Georgia. Karvelas hope to provide many great meals with a family dining experience that is unique and hearty.
X-ALT-DESC;FMTTYPE=text/html:Please join the Newnan-Coweta Chamber in celebrating the ribbon cutting of Karvelas Pizza Co new location in Senoia!&nbsp\;A family owned and operated pizzeria that started in Hogansville\, Georgia. Providing homemade recipes\, hand crafted sauces\, and fresh never frozen ingredients. They want to personally extend an invite to the Coweta Community for the opening of their 6th location in Senoia\, Georgia. Karvelas hope to provide many great meals with a family dining experience that is unique and hearty.
LOCATION:6855 GA-16 Senoia\, GA 30276
UID:e.468.20499
SEQUENCE:3
DTSTAMP:20260420T015758Z
URL:https://www.newnancowetachamber.org/events/details/ribbon-cutting-karvelas-pizza-co-senoia-20499
END:VEVENT

END:VCALENDAR
