BEGIN:VCALENDAR
VERSION:2.0
PRODID:-//ChamberMaster//Event Calendar 2.0//EN
METHOD:PUBLISH
X-PUBLISHED-TTL:P3D
REFRESH-INTERVAL:P3D
CALSCALE:GREGORIAN
BEGIN:VEVENT
DTSTART:20220511T200000Z
DTEND:20220511T210000Z
X-MICROSOFT-CDO-ALLDAYEVENT:FALSE
SUMMARY:Ribbon Cutting: Kay Shell Montessori
DESCRIPTION:Join The Newnan-Coweta Chamber for the Ribbon Cutting of Kay Shell Montessori! The Kay Shell Montessori School was founded with one purpose - to build a space for all students to grow\, learn and create with each passing day. They believe pre-school children possess a remarkable ability to absorb the world that surrounds them. Maria Montessori believed that the years from 2 to 6 are the most critical period for nurturing a child's natural curiosity and for laying the foundation for all future development. Please register!
X-ALT-DESC;FMTTYPE=text/html:<span style="font-size:14px\;"><span style="font-family:tahoma\;">Join The Newnan-Coweta Chamber for the Ribbon Cutting of Kay Shell Montessori!</span>&nbsp\;</span><span style="font-family:tahoma\;"><span style="font-size:14px\;"><span style="caret-color: rgb(0\, 0\, 0)\;">The Kay Shell Montessori School was founded with one purpose - to build a space for all students to grow\, learn and create with each passing day. They believe pre-school children possess a remarkable ability to absorb the world that surrounds them. Maria Montessori believed that the years from 2 to 6 are the most critical period for nurturing a child&rsquo\;s natural curiosity and for laying the foundation for all future development. Please register!</span></span></span>
LOCATION:45 Sutherland Drive\, Suite A Newnan\, GA 30263
UID:e.468.18380
SEQUENCE:3
DTSTAMP:20260424T155709Z
URL:https://www.newnancowetachamber.org/events/details/ribbon-cutting-kay-shell-montessori-18380
END:VEVENT

END:VCALENDAR
